BEGIN:VCALENDAR
VERSION:2.0
PRODID:-//The Prince of Wales Sudbury - ECPv6.15.20//NONSGML v1.0//EN
CALSCALE:GREGORIAN
METHOD:PUBLISH
X-WR-CALNAME:The Prince of Wales Sudbury
X-ORIGINAL-URL:https://theprinceofwalessudbury.co.uk
X-WR-CALDESC:Events for The Prince of Wales Sudbury
REFRESH-INTERVAL;VALUE=DURATION:PT1H
X-Robots-Tag:noindex
X-PUBLISHED-TTL:PT1H
BEGIN:VTIMEZONE
TZID:UTC
BEGIN:STANDARD
TZOFFSETFROM:+0000
TZOFFSETTO:+0000
TZNAME:UTC
DTSTART:20240101T000000
END:STANDARD
END:VTIMEZONE
BEGIN:VEVENT
DTSTART;TZID=UTC:20250705T210000
DTEND;TZID=UTC:20250705T233000
DTSTAMP:20260422T110924
CREATED:20250110T123849Z
LAST-MODIFIED:20250110T123849Z
UID:532-1751749200-1751758200@theprinceofwalessudbury.co.uk
SUMMARY:Beautiful Dangerous
DESCRIPTION:
URL:https://theprinceofwalessudbury.co.uk/event/beautiful-dangerous-3
LOCATION:Prince of Wales\, New Street\, Sudbury\, Suffolk\, CO101JB\, United Kingdom
CATEGORIES:Live Music
END:VEVENT
BEGIN:VEVENT
DTSTART;TZID=UTC:20250712T213000
DTEND;TZID=UTC:20250712T233000
DTSTAMP:20260422T110924
CREATED:20250701T085048Z
LAST-MODIFIED:20250701T085048Z
UID:677-1752355800-1752363000@theprinceofwalessudbury.co.uk
SUMMARY:The Good the Bad the Ugly and Jim
DESCRIPTION:
URL:https://theprinceofwalessudbury.co.uk/event/the-good-the-bad-the-ugly-and-jim-3
LOCATION:Prince of Wales\, New Street\, Sudbury\, Suffolk\, CO101JB\, United Kingdom
CATEGORIES:Live Music
END:VEVENT
BEGIN:VEVENT
DTSTART;TZID=UTC:20250719T210000
DTEND;TZID=UTC:20250719T233000
DTSTAMP:20260422T110924
CREATED:20250110T123952Z
LAST-MODIFIED:20250701T085322Z
UID:534-1752958800-1752967800@theprinceofwalessudbury.co.uk
SUMMARY:Words to Music
DESCRIPTION:
URL:https://theprinceofwalessudbury.co.uk/event/invertebeats-3
LOCATION:Prince of Wales\, New Street\, Sudbury\, Suffolk\, CO101JB\, United Kingdom
CATEGORIES:Live Music
END:VEVENT
BEGIN:VEVENT
DTSTART;TZID=UTC:20250726T210000
DTEND;TZID=UTC:20250726T233000
DTSTAMP:20260422T110924
CREATED:20250110T124145Z
LAST-MODIFIED:20250110T124145Z
UID:536-1753563600-1753572600@theprinceofwalessudbury.co.uk
SUMMARY:BeerGut 100
DESCRIPTION:
URL:https://theprinceofwalessudbury.co.uk/event/beergut-100-3
LOCATION:Prince of Wales\, New Street\, Sudbury\, Suffolk\, CO101JB\, United Kingdom
CATEGORIES:Live Music
END:VEVENT
END:VCALENDAR